BEGIN:VCALENDAR
VERSION:2.0
PRODID:-//demosphere.net//NONSGML kigkonsult.se iCalcreator 2.22.1//
METHOD:REQUEST
X-WR-TIMEZONE:Europe/Athens
BEGIN:VEVENT
UID:https://thessaloniki.kinimatorama.net/event/186716
DTSTAMP:20260211T160000Z
DESCRIPTION:περισσότερες πληροφορίες: https://thessaloniki.kinimatorama.net
 /event/186716 
DTSTART:20260211T160000Z
DTEND:20260211T170000Z
GEO:+37.994079;+23.732083
LOCATION:Αθήνα\, \nΑΣΟΕΕ \nΠατησίων 76 (28ης Οκτωβρίου) \n(πλησίον σταθμού 
 ΗΣΑΠ Βικτώρια)
SUMMARY:Κάλεσμα Συνέλευσης για την δημιουργία Μπλοκ στήριξης στον αγώνα τον
  αγροτών
URL:https://thessaloniki.kinimatorama.net/event/186716
END:VEVENT
END:VCALENDAR
