BEGIN:VCALENDAR
VERSION:2.0
PRODID:-//demosphere.net//NONSGML kigkonsult.se iCalcreator 2.22.1//
METHOD:REQUEST
X-WR-TIMEZONE:Europe/Athens
BEGIN:VEVENT
UID:https://thessaloniki.kinimatorama.net/event/186741
DTSTAMP:20260215T130000Z
DESCRIPTION:περισσότερες πληροφορίες: https://thessaloniki.kinimatorama.net
 /event/186741 
DTSTART:20260215T130000Z
DTEND:20260215T140000Z
GEO:+40.638356;+22.944316
LOCATION:Θεσσαλονίκη\, \nΕλευθεριακός χώρος Sabot \nΓκαρμπολά 2 \nΜπιτ Παζά
 ρ
SUMMARY:Πολιτικό καφενείο/Διάθεση έντυπου υλικού Ταμείου Αλληλεγγύης
URL:https://thessaloniki.kinimatorama.net/event/186741
END:VEVENT
END:VCALENDAR
