BEGIN:VCALENDAR
VERSION:2.0
PRODID:-//demosphere.net//NONSGML kigkonsult.se iCalcreator 2.22.1//
METHOD:REQUEST
X-WR-TIMEZONE:Europe/Athens
BEGIN:VEVENT
UID:https://thessaloniki.kinimatorama.net/event/186799
DTSTAMP:20260213T170000Z
DESCRIPTION:περισσότερες πληροφορίες: https://thessaloniki.kinimatorama.net
 /event/186799 
DTSTART:20260213T170000Z
DTEND:20260213T180000Z
GEO:+38.00095;+23.737762
LOCATION:Αθήνα\, \nΔημοτική Αγορά Κυψέλης \nΦωκίωνος Νέγρη 42
SUMMARY:Συγκέντρωση-μικροφωνική αλληλεγγύης στον αγώνα του Κοσμά Αρκαδίας
URL:https://thessaloniki.kinimatorama.net/event/186799
END:VEVENT
END:VCALENDAR
