BEGIN:VCALENDAR
VERSION:2.0
PRODID:-//demosphere.net//NONSGML kigkonsult.se iCalcreator 2.22.1//
METHOD:REQUEST
X-WR-TIMEZONE:Europe/Athens
BEGIN:VEVENT
UID:https://thessaloniki.kinimatorama.net/event/186833
DTSTAMP:20260214T093000Z
DESCRIPTION:περισσότερες πληροφορίες: https://thessaloniki.kinimatorama.net
 /event/186833 
DTSTART:20260214T093000Z
DTEND:20260214T103000Z
GEO:+40.629229;+22.949044
LOCATION:Θεσσαλονίκη\, \nΤσιμισκή με Ναυαρίνου (Γούναρη)
SUMMARY:Παρεμβαση αλληλεγγυης στις εργαζομενες στο rubiks
URL:https://thessaloniki.kinimatorama.net/event/186833
END:VEVENT
END:VCALENDAR
