BEGIN:VCALENDAR
VERSION:2.0
PRODID:-//demosphere.net//NONSGML kigkonsult.se iCalcreator 2.22.1//
METHOD:REQUEST
X-WR-TIMEZONE:Europe/Athens
BEGIN:VEVENT
UID:https://thessaloniki.kinimatorama.net/event/186923
DTSTAMP:20260213T200000Z
DESCRIPTION:περισσότερες πληροφορίες: https://thessaloniki.kinimatorama.net
 /event/186923 
DTSTART:20260213T200000Z
DTEND:20260213T210000Z
GEO:+35.341459;+25.132416
LOCATION:Ηράκλειο\, \nΚατάληψη Ευαγγελισμού \nΘεοτοκοπούλου 18
SUMMARY:Μπαρ για την οικονομική ενίσχυση της κατάληψης Ευαγγελισμού
URL:https://thessaloniki.kinimatorama.net/event/186923
END:VEVENT
END:VCALENDAR
