BEGIN:VCALENDAR
VERSION:2.0
PRODID:-//demosphere.net//NONSGML kigkonsult.se iCalcreator 2.22.1//
METHOD:REQUEST
X-WR-TIMEZONE:Europe/Athens
BEGIN:VEVENT
UID:https://thessaloniki.kinimatorama.net/event/186946
DTSTAMP:20260216T070000Z
DESCRIPTION:περισσότερες πληροφορίες: https://thessaloniki.kinimatorama.net
 /event/186946 
DTSTART:20260216T070000Z
DTEND:20260216T080000Z
GEO:+38.244158;+21.732406
LOCATION:Πάτρα\, \nΔικαστήρια Πάτρας \nΓούναρη
SUMMARY:Συγκέντρωση αλληλεγγύης στα 25 συλληφθέντα συντροφιά
URL:https://thessaloniki.kinimatorama.net/event/186946
END:VEVENT
END:VCALENDAR
