BEGIN:VCALENDAR
VERSION:2.0
PRODID:-//demosphere.net//NONSGML kigkonsult.se iCalcreator 2.22.1//
METHOD:REQUEST
X-WR-TIMEZONE:Europe/Athens
BEGIN:VEVENT
UID:https://thessaloniki.kinimatorama.net/event/186955
DTSTAMP:20260217T070000Z
DESCRIPTION:περισσότερες πληροφορίες: https://thessaloniki.kinimatorama.net
 /event/186955 
DTSTART:20260217T070000Z
DTEND:20260217T080000Z
GEO:+40.639326;+22.932823
LOCATION:Θεσσαλονίκη\, \nΔικαστήρια Θεσσαλονίκης
SUMMARY:Συγκέντρωση αλληλεγγύης στα 49 συλληφθέντα από την εκκένωση της ΣΘΕ
URL:https://thessaloniki.kinimatorama.net/event/186955
END:VEVENT
END:VCALENDAR
