BEGIN:VCALENDAR
VERSION:2.0
PRODID:-//demosphere.net//NONSGML kigkonsult.se iCalcreator 2.22.1//
METHOD:REQUEST
X-WR-TIMEZONE:Europe/Athens
BEGIN:VEVENT
UID:https://thessaloniki.kinimatorama.net/event/186969
DTSTAMP:20260216T170000Z
DESCRIPTION:περισσότερες πληροφορίες: https://thessaloniki.kinimatorama.net
 /event/186969 
DTSTART:20260216T170000Z
DTEND:20260216T180000Z
GEO:+37.994079;+23.732083
LOCATION:Αθήνα\, \nΑΣΟΕΕ \nΠατησίων 76 (28ης Οκτωβρίου) \n(πλησίον σταθμού 
 ΗΣΑΠ Βικτώρια)
SUMMARY:Ανοιχτή συνέλευση αλληλεγγύης για την υπόθεση 'συντροφοι-συντροφισσ
 ες'
URL:https://thessaloniki.kinimatorama.net/event/186969
END:VEVENT
END:VCALENDAR
