BEGIN:VCALENDAR
VERSION:2.0
PRODID:-//demosphere.net//NONSGML kigkonsult.se iCalcreator 2.22.1//
METHOD:REQUEST
X-WR-TIMEZONE:Europe/Athens
BEGIN:VEVENT
UID:https://thessaloniki.kinimatorama.net/event/186981
DTSTAMP:20260222T140000Z
DESCRIPTION:περισσότερες πληροφορίες: https://thessaloniki.kinimatorama.net
 /event/186981 
DTSTART:20260222T140000Z
DTEND:20260222T150000Z
GEO:+38.006049;+23.725857
LOCATION:Αθήνα\, \nΜανουσογιάννη 6 \nΆγιος Νικόλαος \n(3' περπάτημα από στα
 θμό ΗΣΑΠ ΑΓ.ΝΙΚΟΛΑΟΣ)
SUMMARY:Trans Καφενές της συνέλευσης για Αυτοοργανωμένο Trans Pride
URL:https://thessaloniki.kinimatorama.net/event/186981
END:VEVENT
END:VCALENDAR
