BEGIN:VCALENDAR
VERSION:2.0
PRODID:-//demosphere.net//NONSGML kigkonsult.se iCalcreator 2.22.1//
METHOD:REQUEST
X-WR-TIMEZONE:Europe/Athens
BEGIN:VEVENT
UID:https://thessaloniki.kinimatorama.net/event/187125
DTSTAMP:20260219T180000Z
DESCRIPTION:περισσότερες πληροφορίες: https://thessaloniki.kinimatorama.net
 /event/187125 
DTSTART:20260219T180000Z
DTEND:20260219T190000Z
GEO:+40.845949;+25.874133
LOCATION:Αλεξ/πολη\, \nΑναγνωστήριο Ιατρικής \nΙ.Καβύρη 6
SUMMARY:Συνάντηση μουσικής ομάδας ΜΑΝΟΙΑ
URL:https://thessaloniki.kinimatorama.net/event/187125
END:VEVENT
END:VCALENDAR
