BEGIN:VCALENDAR
VERSION:2.0
PRODID:-//demosphere.net//NONSGML kigkonsult.se iCalcreator 2.22.1//
METHOD:REQUEST
X-WR-TIMEZONE:Europe/Athens
BEGIN:VEVENT
UID:https://thessaloniki.kinimatorama.net/event/187154
DTSTAMP:20260224T160000Z
DESCRIPTION:περισσότερες πληροφορίες: https://thessaloniki.kinimatorama.net
 /event/187154 
DTSTART:20260224T160000Z
DTEND:20260224T170000Z
GEO:+40.633903;+22.95648
LOCATION:Θεσσαλονίκη\, \nΣχολή Θετικών Επιστημών (ΣΘΕ) ΑΠΘ
SUMMARY:[Αναβάλλεται για Πέμπτη] Ανοιχτή αντιπατριαρχική συνέλευση για την 
 8η Μάρτη
URL:https://thessaloniki.kinimatorama.net/event/187154
END:VEVENT
END:VCALENDAR
