BEGIN:VCALENDAR
VERSION:2.0
PRODID:-//demosphere.net//NONSGML kigkonsult.se iCalcreator 2.22.1//
METHOD:REQUEST
X-WR-TIMEZONE:Europe/Athens
BEGIN:VEVENT
UID:https://thessaloniki.kinimatorama.net/event/187164
DTSTAMP:20260223T110000Z
DESCRIPTION:περισσότερες πληροφορίες: https://thessaloniki.kinimatorama.net
 /event/187164 
DTSTART:20260223T110000Z
DTEND:20260223T120000Z
GEO:+37.988214;+23.738987
LOCATION:Αθήνα\, \nΛόφος Στρέφη \nΕξάρχεια
SUMMARY:Καθαρά Δευτέρα στον Λόφο Στρέφη
URL:https://thessaloniki.kinimatorama.net/event/187164
END:VEVENT
END:VCALENDAR
