BEGIN:VCALENDAR
VERSION:2.0
PRODID:-//demosphere.net//NONSGML kigkonsult.se iCalcreator 2.22.1//
METHOD:REQUEST
X-WR-TIMEZONE:Europe/Athens
BEGIN:VEVENT
UID:https://thessaloniki.kinimatorama.net/event/187186
DTSTAMP:20260221T133000Z
DESCRIPTION:περισσότερες πληροφορίες: https://thessaloniki.kinimatorama.net
 /event/187186 
DTSTART:20260221T133000Z
DTEND:20260221T143000Z
GEO:+39.636084;+22.414415
LOCATION:Λάρισα\, \nΠερραιβού 3
SUMMARY:Εργασιών συνέχεια
URL:https://thessaloniki.kinimatorama.net/event/187186
END:VEVENT
END:VCALENDAR
