BEGIN:VCALENDAR
VERSION:2.0
PRODID:-//demosphere.net//NONSGML kigkonsult.se iCalcreator 2.22.1//
METHOD:REQUEST
X-WR-TIMEZONE:Europe/Athens
BEGIN:VEVENT
UID:https://thessaloniki.kinimatorama.net/event/187200
DTSTAMP:20260226T170000Z
DESCRIPTION:περισσότερες πληροφορίες: https://thessaloniki.kinimatorama.net
 /event/187200 
DTSTART:20260226T170000Z
DTEND:20260226T180000Z
GEO:+37.953;+23.738805
LOCATION:Δάφνη\, \nΖερμινάλ | αυτοοργανωμένος χώρος στα νότια \nΗλιουπόλεως
  124 (& Γυμναστηρίου)
SUMMARY:Συζήτηση: Ενεργειακή Μετάβαση και Καπιταλισμός
URL:https://thessaloniki.kinimatorama.net/event/187200
END:VEVENT
END:VCALENDAR
