BEGIN:VCALENDAR
VERSION:2.0
PRODID:-//demosphere.net//NONSGML kigkonsult.se iCalcreator 2.22.1//
METHOD:REQUEST
X-WR-TIMEZONE:Europe/Athens
BEGIN:VEVENT
UID:https://thessaloniki.kinimatorama.net/event/187221
DTSTAMP:20260225T160000Z
DESCRIPTION:περισσότερες πληροφορίες: https://thessaloniki.kinimatorama.net
 /event/187221 
DTSTART:20260225T160000Z
DTEND:20260225T170000Z
GEO:+39.608422;+19.920036
LOCATION:Κέρκυρα\, \nΚατάληψη Ελαία \nΙνστιτούτο ελαίας \nΔαίρπφελδ & Αγίων
  Θεοδώρων \nΜον Ρεπό \nΓαρίτσα
SUMMARY:Αναγνωστήριο και συνέλευση δομής βιβλιοθήκης
URL:https://thessaloniki.kinimatorama.net/event/187221
END:VEVENT
END:VCALENDAR
