BEGIN:VCALENDAR
VERSION:2.0
PRODID:-//demosphere.net//NONSGML kigkonsult.se iCalcreator 2.22.1//
METHOD:REQUEST
X-WR-TIMEZONE:Europe/Athens
BEGIN:VEVENT
UID:https://thessaloniki.kinimatorama.net/event/187241
DTSTAMP:20260228T090000Z
DESCRIPTION:περισσότερες πληροφορίες: https://thessaloniki.kinimatorama.net
 /event/187241 
DTSTART:20260228T090000Z
DTEND:20260228T100000Z
GEO:+40.632094;+22.951837
LOCATION:Θεσσαλονίκη\, \nΚαμάρα \nΕγνατία 121
SUMMARY:Προσυγκέντρωση για τη γενική απεργία της 28ης Φλεβάρη
URL:https://thessaloniki.kinimatorama.net/event/187241
END:VEVENT
END:VCALENDAR
