BEGIN:VCALENDAR
VERSION:2.0
PRODID:-//demosphere.net//NONSGML kigkonsult.se iCalcreator 2.22.1//
METHOD:REQUEST
X-WR-TIMEZONE:Europe/Athens
BEGIN:VEVENT
UID:https://thessaloniki.kinimatorama.net/event/187262
DTSTAMP:20260227T063000Z
DESCRIPTION:περισσότερες πληροφορίες: https://thessaloniki.kinimatorama.net
 /event/187262 
DTSTART:20260227T063000Z
DTEND:20260227T073000Z
GEO:+37.989263;+23.752484
LOCATION:Αθήνα\, \nΕφετείο Αθηνών \nΛουκάρεως & Αλεξάνδρας \nΑμπελόκηποι \n
 (πλησίον ΜΕΤΡΟ Αμπελοκήπων)
SUMMARY:Αντιφασιστικό συλλαλητήριο
URL:https://thessaloniki.kinimatorama.net/event/187262
END:VEVENT
END:VCALENDAR
