BEGIN:VCALENDAR
VERSION:2.0
PRODID:-//demosphere.net//NONSGML kigkonsult.se iCalcreator 2.22.1//
METHOD:REQUEST
X-WR-TIMEZONE:Europe/Athens
BEGIN:VEVENT
UID:https://thessaloniki.kinimatorama.net/event/187411
DTSTAMP:20260227T200000Z
DESCRIPTION:περισσότερες πληροφορίες: https://thessaloniki.kinimatorama.net
 /event/187411 
DTSTART:20260227T200000Z
DTEND:20260227T210000Z
GEO:+35.341459;+25.132416
LOCATION:Ηράκλειο\, \nΚατάληψη Ευαγγελισμού \nΘεοτοκοπούλου 18
SUMMARY:Αυτοδιαχειριζόμενο καφενείο/bar οικονομικής ενίσχυσης της Κατάληψης
  Ευαγγελισμού
URL:https://thessaloniki.kinimatorama.net/event/187411
END:VEVENT
END:VCALENDAR
