BEGIN:VCALENDAR
VERSION:2.0
PRODID:-//demosphere.net//NONSGML kigkonsult.se iCalcreator 2.22.1//
METHOD:REQUEST
X-WR-TIMEZONE:Europe/Athens
BEGIN:VEVENT
UID:https://thessaloniki.kinimatorama.net/event/187437
DTSTAMP:20260308T100000Z
DESCRIPTION:περισσότερες πληροφορίες: https://thessaloniki.kinimatorama.net
 /event/187437 
DTSTART:20260308T100000Z
DTEND:20260308T110000Z
GEO:+40.632094;+22.951837
LOCATION:Θεσσαλονίκη\, \nΚαμάρα \nΕγνατία 121
SUMMARY:Πορεία για την 8η Μάρτη
URL:https://thessaloniki.kinimatorama.net/event/187437
END:VEVENT
END:VCALENDAR
