BEGIN:VCALENDAR
VERSION:2.0
PRODID:-//demosphere.net//NONSGML kigkonsult.se iCalcreator 2.22.1//
METHOD:REQUEST
X-WR-TIMEZONE:Europe/Athens
BEGIN:VEVENT
UID:https://thessaloniki.kinimatorama.net/event/187474
DTSTAMP:20260303T100000Z
DESCRIPTION:περισσότερες πληροφορίες: https://thessaloniki.kinimatorama.net
 /event/187474 
DTSTART:20260303T100000Z
DTEND:20260303T110000Z
GEO:+37.995376;+23.743086
LOCATION:Αθήνα\, \nΔικαστήρια Ευελπίδων
SUMMARY:Συγκέντρωση Αλληλεγγύης για τους/τις συλληφθέντες/είσες της πορείας
  στις 31/10
URL:https://thessaloniki.kinimatorama.net/event/187474
END:VEVENT
END:VCALENDAR
