BEGIN:VCALENDAR
VERSION:2.0
PRODID:-//demosphere.net//NONSGML kigkonsult.se iCalcreator 2.22.1//
METHOD:REQUEST
X-WR-TIMEZONE:Europe/Athens
BEGIN:VEVENT
UID:https://thessaloniki.kinimatorama.net/event/187482
DTSTAMP:20260303T173000Z
DESCRIPTION:περισσότερες πληροφορίες: https://thessaloniki.kinimatorama.net
 /event/187482 
DTSTART:20260303T173000Z
DTEND:20260303T183000Z
GEO:+40.638356;+22.944316
LOCATION:Θεσσαλονίκη\, \nΕλευθεριακός χώρος Sabot \nΓκαρμπολά 2 \nΜπιτ Παζά
 ρ
SUMMARY:Προβολή του ντοκιμαντέρ 'The black power mixtape 1967-1975'
URL:https://thessaloniki.kinimatorama.net/event/187482
END:VEVENT
END:VCALENDAR
