BEGIN:VCALENDAR
VERSION:2.0
PRODID:-//demosphere.net//NONSGML kigkonsult.se iCalcreator 2.22.1//
METHOD:REQUEST
X-WR-TIMEZONE:Europe/Athens
BEGIN:VEVENT
UID:https://thessaloniki.kinimatorama.net/event/187487
DTSTAMP:20260228T163000Z
DESCRIPTION:περισσότερες πληροφορίες: https://thessaloniki.kinimatorama.net
 /event/187487 
DTSTART:20260228T163000Z
DTEND:20260228T173000Z
GEO:+39.636084;+22.414415
LOCATION:Λάρισα\, \nΠερραιβού 3
SUMMARY:Ανοιχτό κάλεσμα για συζήτηση
URL:https://thessaloniki.kinimatorama.net/event/187487
END:VEVENT
END:VCALENDAR
