BEGIN:VCALENDAR
VERSION:2.0
PRODID:-//demosphere.net//NONSGML kigkonsult.se iCalcreator 2.22.1//
METHOD:REQUEST
X-WR-TIMEZONE:Europe/Athens
BEGIN:VEVENT
UID:https://thessaloniki.kinimatorama.net/event/187521
DTSTAMP:20260302T180000Z
DESCRIPTION:περισσότερες πληροφορίες: https://thessaloniki.kinimatorama.net
 /event/187521 
DTSTART:20260302T180000Z
DTEND:20260302T190000Z
GEO:+37.953;+23.738805
LOCATION:Δάφνη\, \nΖερμινάλ | αυτοοργανωμένος χώρος στα νότια \nΗλιουπόλεως
  124 (& Γυμναστηρίου)
SUMMARY:Εργαστήριο μεταποίησης τροφίμων (μπάρες δημητριακών)
URL:https://thessaloniki.kinimatorama.net/event/187521
END:VEVENT
END:VCALENDAR
