BEGIN:VCALENDAR
VERSION:2.0
PRODID:-//demosphere.net//NONSGML kigkonsult.se iCalcreator 2.22.1//
METHOD:REQUEST
X-WR-TIMEZONE:Europe/Athens
BEGIN:VEVENT
UID:https://thessaloniki.kinimatorama.net/event/187526
DTSTAMP:20260307T153000Z
DESCRIPTION:περισσότερες πληροφορίες: https://thessaloniki.kinimatorama.net
 /event/187526 
DTSTART:20260307T153000Z
DTEND:20260307T163000Z
GEO:+35.341459;+25.132416
LOCATION:Ηράκλειο\, \nΚατάληψη Ευαγγελισμού \nΘεοτοκοπούλου 18
SUMMARY:Βιβλιοπαρουσίαση- Συζήτηση: Αειφανή Αστέρια – Φωτίζοντας το μονοπάτ
 ι της αντίστασης
URL:https://thessaloniki.kinimatorama.net/event/187526
END:VEVENT
END:VCALENDAR
