BEGIN:VCALENDAR
VERSION:2.0
PRODID:-//demosphere.net//NONSGML kigkonsult.se iCalcreator 2.22.1//
METHOD:REQUEST
X-WR-TIMEZONE:Europe/Athens
BEGIN:VEVENT
UID:https://thessaloniki.kinimatorama.net/event/187537
DTSTAMP:20260305T180000Z
DESCRIPTION:περισσότερες πληροφορίες: https://thessaloniki.kinimatorama.net
 /event/187537 
DTSTART:20260305T180000Z
DTEND:20260305T190000Z
GEO:+37.953;+23.738805
LOCATION:Δάφνη\, \nΖερμινάλ | αυτοοργανωμένος χώρος στα νότια \nΗλιουπόλεως
  124 (& Γυμναστηρίου)
SUMMARY:To Κόμμα των Μαύρων Πανθήρων: Προβολή & Βιβλιοπαρουσίαση
URL:https://thessaloniki.kinimatorama.net/event/187537
END:VEVENT
END:VCALENDAR
