BEGIN:VCALENDAR
VERSION:2.0
PRODID:-//demosphere.net//NONSGML kigkonsult.se iCalcreator 2.22.1//
METHOD:REQUEST
X-WR-TIMEZONE:Europe/Athens
BEGIN:VEVENT
UID:https://thessaloniki.kinimatorama.net/event/187539
DTSTAMP:20260304T070000Z
DESCRIPTION:περισσότερες πληροφορίες: https://thessaloniki.kinimatorama.net
 /event/187539 
DTSTART:20260304T070000Z
DTEND:20260304T080000Z
GEO:+38.244158;+21.732406
LOCATION:Πάτρα\, \nΔικαστήρια Πάτρας \nΓούναρη
SUMMARY:Συγκέντρωση Αλληλεγγύης στους 9 συλληφθέντες της κατάληψης των γραφ
 είων της ΝΔ
URL:https://thessaloniki.kinimatorama.net/event/187539
END:VEVENT
END:VCALENDAR
