BEGIN:VCALENDAR
VERSION:2.0
PRODID:-//demosphere.net//NONSGML kigkonsult.se iCalcreator 2.22.1//
METHOD:REQUEST
X-WR-TIMEZONE:Europe/Athens
BEGIN:VEVENT
UID:https://thessaloniki.kinimatorama.net/event/187618
DTSTAMP:20260308T120000Z
DESCRIPTION:περισσότερες πληροφορίες: https://thessaloniki.kinimatorama.net
 /event/187618 
DTSTART:20260308T120000Z
DTEND:20260308T130000Z
GEO:+40.638356;+22.944316
LOCATION:Θεσσαλονίκη\, \nΕλευθεριακός χώρος Sabot \nΓκαρμπολά 2 \nΜπιτ Παζά
 ρ
SUMMARY:Άνοιγμα του χώρου με ρεμπέτικο γλέντι
URL:https://thessaloniki.kinimatorama.net/event/187618
END:VEVENT
END:VCALENDAR
