BEGIN:VCALENDAR
VERSION:2.0
PRODID:-//demosphere.net//NONSGML kigkonsult.se iCalcreator 2.22.1//
METHOD:REQUEST
X-WR-TIMEZONE:Europe/Athens
BEGIN:VEVENT
UID:https://thessaloniki.kinimatorama.net/event/187673
DTSTAMP:20260403T180000Z
DESCRIPTION:περισσότερες πληροφορίες: https://thessaloniki.kinimatorama.net
 /event/187673 
DTSTART:20260403T180000Z
DTEND:20260403T190000Z
GEO:+40.628097;+22.96439
LOCATION:Θεσσαλονίκη\, \nΙβανώφειο γήπεδο \nΑγ. Δημητρίου & 3ης Σεπτεμβρίου
SUMMARY:Live οικονομικής ενίσχυσης
URL:https://thessaloniki.kinimatorama.net/event/187673
END:VEVENT
END:VCALENDAR
