BEGIN:VCALENDAR
VERSION:2.0
PRODID:-//demosphere.net//NONSGML kigkonsult.se iCalcreator 2.22.1//
METHOD:REQUEST
X-WR-TIMEZONE:Europe/Athens
BEGIN:VEVENT
UID:https://thessaloniki.kinimatorama.net/event/187698
DTSTAMP:20260402T180000Z
DESCRIPTION:περισσότερες πληροφορίες: https://thessaloniki.kinimatorama.net
 /event/187698 
DTSTART:20260402T180000Z
DTEND:20260402T190000Z
GEO:+40.639239;+22.934743
LOCATION:Θεσσαλονίκη\, \nαυτοδιαχειριζόμενος χώρος Σημείο Μηδέν \nΜοσκώφ 12
SUMMARY:diy live
URL:https://thessaloniki.kinimatorama.net/event/187698
END:VEVENT
END:VCALENDAR
