BEGIN:VCALENDAR
VERSION:2.0
PRODID:-//demosphere.net//NONSGML kigkonsult.se iCalcreator 2.22.1//
METHOD:REQUEST
X-WR-TIMEZONE:Europe/Athens
BEGIN:VEVENT
UID:https://thessaloniki.kinimatorama.net/event/187725
DTSTAMP:20260304T190000Z
DESCRIPTION:περισσότερες πληροφορίες: https://thessaloniki.kinimatorama.net
 /event/187725 
DTSTART:20260304T190000Z
DTEND:20260304T200000Z
GEO:+39.636084;+22.414415
LOCATION:Λάρισα\, \nΠερραιβού 3
SUMMARY:Ανοιχτό κάλεσμα συνδιαμόρφωσης & συζήτησης για την 1η θεματική ενότ
 ητα του νέου χώρου
URL:https://thessaloniki.kinimatorama.net/event/187725
END:VEVENT
END:VCALENDAR
