BEGIN:VCALENDAR
VERSION:2.0
PRODID:-//demosphere.net//NONSGML kigkonsult.se iCalcreator 2.22.1//
METHOD:REQUEST
X-WR-TIMEZONE:Europe/Athens
BEGIN:VEVENT
UID:https://thessaloniki.kinimatorama.net/event/187972
DTSTAMP:20260313T173000Z
DESCRIPTION:περισσότερες πληροφορίες: https://thessaloniki.kinimatorama.net
 /event/187972 
DTSTART:20260313T173000Z
DTEND:20260313T183000Z
GEO:+40.638186;+22.944669
LOCATION:Θεσσαλονίκη\, \nΠολιτικός χώρος Διαρκή Αγώνα για την Ταξική Απελευ
 θέρωση\, \nΓκαρμπολά 12
SUMMARY:1η Ανοιχτή Aντιπολεμική - Aντιιμπεριαλιστική συνέλευση
URL:https://thessaloniki.kinimatorama.net/event/187972
END:VEVENT
END:VCALENDAR
