BEGIN:VCALENDAR
VERSION:2.0
PRODID:-//demosphere.net//NONSGML kigkonsult.se iCalcreator 2.22.1//
METHOD:REQUEST
X-WR-TIMEZONE:Europe/Athens
BEGIN:VEVENT
UID:https://thessaloniki.kinimatorama.net/event/188113
DTSTAMP:20260315T123000Z
DESCRIPTION:περισσότερες πληροφορίες: https://thessaloniki.kinimatorama.net
 /event/188113 
DTSTART:20260315T123000Z
DTEND:20260315T133000Z
GEO:+40.629229;+22.949044
LOCATION:Θεσσαλονίκη\, \nΤσιμισκή με Ναυαρίνου (Γούναρη)
SUMMARY:Παρέμβαση αλληλεγγύης στις πρώην εργαζόμενες στο Rubik's
URL:https://thessaloniki.kinimatorama.net/event/188113
END:VEVENT
END:VCALENDAR
