BEGIN:VCALENDAR
VERSION:2.0
PRODID:-//demosphere.net//NONSGML kigkonsult.se iCalcreator 2.22.1//
METHOD:REQUEST
X-WR-TIMEZONE:Europe/Athens
BEGIN:VEVENT
UID:https://thessaloniki.kinimatorama.net/event/188258
DTSTAMP:20260317T160000Z
DESCRIPTION:περισσότερες πληροφορίες: https://thessaloniki.kinimatorama.net
 /event/188258 
DTSTART:20260317T160000Z
DTEND:20260317T170000Z
GEO:+35.341459;+25.132416
LOCATION:Ηράκλειο\, \nΚατάληψη Ευαγγελισμού \nΘεοτοκοπούλου 18
SUMMARY:Aνοιχτή συνέλευση για την υπεράσπιση των Κατειλημμένων Προσφυγικών
URL:https://thessaloniki.kinimatorama.net/event/188258
END:VEVENT
END:VCALENDAR
