BEGIN:VCALENDAR
VERSION:2.0
PRODID:-//demosphere.net//NONSGML kigkonsult.se iCalcreator 2.22.1//
METHOD:REQUEST
X-WR-TIMEZONE:Europe/Athens
BEGIN:VEVENT
UID:https://thessaloniki.kinimatorama.net/event/188379
DTSTAMP:20260319T070000Z
DESCRIPTION:περισσότερες πληροφορίες: https://thessaloniki.kinimatorama.net
 /event/188379 
DTSTART:20260319T070000Z
DTEND:20260319T080000Z
GEO:+37.988265;+23.727615
LOCATION:Αθήνα\, \nΥπουργείο Υγείας \nΑριστοτέλους 17 & Στουρνάρη \n(5' περ
 πάτημα από σταθμό ΟΜΟΝΟΙΑ)
SUMMARY:Απεργιακή συγκέντρωση
URL:https://thessaloniki.kinimatorama.net/event/188379
END:VEVENT
END:VCALENDAR
