BEGIN:VCALENDAR
VERSION:2.0
PRODID:-//demosphere.net//NONSGML kigkonsult.se iCalcreator 2.22.1//
METHOD:REQUEST
X-WR-TIMEZONE:Europe/Athens
BEGIN:VEVENT
UID:https://thessaloniki.kinimatorama.net/event/188561
DTSTAMP:20260322T150000Z
DESCRIPTION:περισσότερες πληροφορίες: https://thessaloniki.kinimatorama.net
 /event/188561 
DTSTART:20260322T150000Z
DTEND:20260322T160000Z
GEO:+39.636084;+22.414415
LOCATION:Λάρισα\, \nΠερραιβού 3
SUMMARY:Συζήτηση για την Δικτύωση
URL:https://thessaloniki.kinimatorama.net/event/188561
END:VEVENT
END:VCALENDAR
