BEGIN:VCALENDAR
VERSION:2.0
PRODID:-//demosphere.net//NONSGML kigkonsult.se iCalcreator 2.22.1//
METHOD:REQUEST
X-WR-TIMEZONE:Europe/Athens
BEGIN:VEVENT
UID:https://thessaloniki.kinimatorama.net/event/188612
DTSTAMP:20260326T170000Z
DESCRIPTION:περισσότερες πληροφορίες: https://thessaloniki.kinimatorama.net
 /event/188612 
DTSTART:20260326T170000Z
DTEND:20260326T180000Z
GEO:+37.953;+23.738805
LOCATION:Δάφνη\, \nΖερμινάλ | αυτοοργανωμένος χώρος στα νότια \nΗλιουπόλεως
  124 (& Γυμναστηρίου)
SUMMARY:Προβολή & Συζήτηση του Ταμείου Αλληλεγγύης
URL:https://thessaloniki.kinimatorama.net/event/188612
END:VEVENT
END:VCALENDAR
