BEGIN:VCALENDAR
VERSION:2.0
PRODID:-//demosphere.net//NONSGML kigkonsult.se iCalcreator 2.22.1//
METHOD:REQUEST
X-WR-TIMEZONE:Europe/Athens
BEGIN:VEVENT
UID:https://thessaloniki.kinimatorama.net/event/188644
DTSTAMP:20260327T160000Z
DESCRIPTION:περισσότερες πληροφορίες: https://thessaloniki.kinimatorama.net
 /event/188644 
DTSTART:20260327T160000Z
DTEND:20260327T170000Z
GEO:+40.633903;+22.95648
LOCATION:Θεσσαλονίκη\, \nΣχολή Θετικών Επιστημών (ΣΘΕ) ΑΠΘ
SUMMARY:Απολογιστική διαδικασία της αν. για το κρατικό-καπιταλιστικό έγκλημ
 α στα Τέμπη
URL:https://thessaloniki.kinimatorama.net/event/188644
END:VEVENT
END:VCALENDAR
