BEGIN:VCALENDAR
VERSION:2.0
PRODID:-//demosphere.net//NONSGML kigkonsult.se iCalcreator 2.22.1//
METHOD:REQUEST
X-WR-TIMEZONE:Europe/Athens
BEGIN:VEVENT
UID:https://thessaloniki.kinimatorama.net/event/188904
DTSTAMP:20260330T060000Z
DESCRIPTION:περισσότερες πληροφορίες: https://thessaloniki.kinimatorama.net
 /event/188904 
DTSTART:20260330T060000Z
DTEND:20260330T070000Z
GEO:+40.639326;+22.932823
LOCATION:Θεσσαλονίκη\, \nΔικαστήρια Θεσσαλονίκης
SUMMARY:Συγκέντρωση Αλληλεγγύης στους 31 συλληφθέντες διωκόμενους φοιτητές 
 του ΑΠΘ
URL:https://thessaloniki.kinimatorama.net/event/188904
END:VEVENT
END:VCALENDAR
