BEGIN:VCALENDAR
VERSION:2.0
PRODID:-//demosphere.net//NONSGML kigkonsult.se iCalcreator 2.22.1//
METHOD:REQUEST
X-WR-TIMEZONE:Europe/Athens
BEGIN:VEVENT
UID:https://thessaloniki.kinimatorama.net/event/188906
DTSTAMP:20260329T140000Z
DESCRIPTION:περισσότερες πληροφορίες: https://thessaloniki.kinimatorama.net
 /event/188906 
DTSTART:20260329T140000Z
DTEND:20260329T150000Z
GEO:+39.636084;+22.414415
LOCATION:Λάρισα\, \nΠερραιβού 3
SUMMARY:Πως ορίζουμε την διασκέδαση\; Χωράει η πολιτική (και) στον τρόπο πο
 υ διασκεδάζουμε\;
URL:https://thessaloniki.kinimatorama.net/event/188906
END:VEVENT
END:VCALENDAR
