BEGIN:VCALENDAR
VERSION:2.0
PRODID:-//demosphere.net//NONSGML kigkonsult.se iCalcreator 2.22.1//
METHOD:REQUEST
X-WR-TIMEZONE:Europe/Athens
BEGIN:VEVENT
UID:https://thessaloniki.kinimatorama.net/event/188946
DTSTAMP:20260401T153000Z
DESCRIPTION:περισσότερες πληροφορίες: https://thessaloniki.kinimatorama.net
 /event/188946 
DTSTART:20260401T153000Z
DTEND:20260401T163000Z
GEO:+40.633903;+22.95648
LOCATION:Θεσσαλονίκη\, \nΣχολή Θετικών Επιστημών (ΣΘΕ) ΑΠΘ
SUMMARY:Κάλεσμα ανοιχτής αντισπισιστικής συνέλευσης
URL:https://thessaloniki.kinimatorama.net/event/188946
END:VEVENT
END:VCALENDAR
