BEGIN:VCALENDAR
VERSION:2.0
PRODID:-//demosphere.net//NONSGML kigkonsult.se iCalcreator 2.22.1//
METHOD:REQUEST
X-WR-TIMEZONE:Europe/Athens
BEGIN:VEVENT
UID:https://thessaloniki.kinimatorama.net/event/188969
DTSTAMP:20260409T163000Z
DESCRIPTION:περισσότερες πληροφορίες: https://thessaloniki.kinimatorama.net
 /event/188969 
DTSTART:20260409T163000Z
DTEND:20260409T173000Z
GEO:+39.664199;+20.8541
LOCATION:Ιωάννινα\, \nΑυτοδιαχειριζόμενος Κοινωνικός Χώρος Ιωαννίνων \n( ΑΚ
 ΟΙΧΙ ) \nΠλατεία Νεομάρτυρος Ιωάννη 5 \n(κάτω από το δημοτικό ωδείο)
SUMMARY:Ομάδα Παραδοσιακών Χορών - AKYΡΩΝΕΤΑΙ
URL:https://thessaloniki.kinimatorama.net/event/188969
END:VEVENT
END:VCALENDAR
