BEGIN:VCALENDAR
VERSION:2.0
PRODID:-//demosphere.net//NONSGML kigkonsult.se iCalcreator 2.22.1//
METHOD:REQUEST
X-WR-TIMEZONE:Europe/Athens
BEGIN:VEVENT
UID:https://thessaloniki.kinimatorama.net/event/18897
DTSTAMP:20120409T163000Z
DESCRIPTION:περισσότερες πληροφορίες: https://thessaloniki.kinimatorama.net
 /event/18897 
DTSTART:20120409T163000Z
DTEND:20120409T173000Z
GEO:+40.633903;+22.95648
LOCATION:Θεσσαλονίκη\, \nΣχολή Θετικών Επιστημών (ΣΘΕ) ΑΠΘ
SUMMARY:Η άμεση δημοκρατία στην πράξη: Το Κίνημα Occupy στις ΗΠΑ σήμερα
URL:https://thessaloniki.kinimatorama.net/event/18897
END:VEVENT
END:VCALENDAR
