BEGIN:VCALENDAR
VERSION:2.0
PRODID:-//demosphere.net//NONSGML kigkonsult.se iCalcreator 2.22.1//
METHOD:REQUEST
X-WR-TIMEZONE:Europe/Athens
BEGIN:VEVENT
UID:https://thessaloniki.kinimatorama.net/event/189172
DTSTAMP:20260403T170000Z
DESCRIPTION:περισσότερες πληροφορίες: https://thessaloniki.kinimatorama.net
 /event/189172 
DTSTART:20260403T170000Z
DTEND:20260403T180000Z
GEO:+40.640383;+22.951035
LOCATION:Θεσσαλονίκη\, \nΚοινωνικό Κέντρο '9 Μάη' \nΝαυπάκτου 3\, Άνω πόλη
SUMMARY:Προβολή ταινίας 'La Haine' (Το Μίσος\, 1995)
URL:https://thessaloniki.kinimatorama.net/event/189172
END:VEVENT
END:VCALENDAR
