BEGIN:VCALENDAR
VERSION:2.0
PRODID:-//demosphere.net//NONSGML kigkonsult.se iCalcreator 2.22.1//
METHOD:REQUEST
X-WR-TIMEZONE:Europe/Athens
BEGIN:VEVENT
UID:https://thessaloniki.kinimatorama.net/event/189189
DTSTAMP:20260403T140000Z
DESCRIPTION:περισσότερες πληροφορίες: https://thessaloniki.kinimatorama.net
 /event/189189 
DTSTART:20260403T140000Z
DTEND:20260403T150000Z
GEO:+38.00095;+23.737762
LOCATION:Αθήνα\, \nΔημοτική Αγορά Κυψέλης \nΦωκίωνος Νέγρη 42
SUMMARY:Μικροφωνική για την υπεράσπιση της κοινότητας των Κατειλημμένων Προ
 σφυγικών
URL:https://thessaloniki.kinimatorama.net/event/189189
END:VEVENT
END:VCALENDAR
