BEGIN:VCALENDAR
VERSION:2.0
PRODID:-//demosphere.net//NONSGML kigkonsult.se iCalcreator 2.22.1//
METHOD:REQUEST
X-WR-TIMEZONE:Europe/Athens
BEGIN:VEVENT
UID:https://thessaloniki.kinimatorama.net/event/189235
DTSTAMP:20260405T140000Z
DESCRIPTION:περισσότερες πληροφορίες: https://thessaloniki.kinimatorama.net
 /event/189235 
DTSTART:20260405T140000Z
DTEND:20260405T150000Z
GEO:+39.636084;+22.414415
LOCATION:Λάρισα\, \nΠερραιβού 3
SUMMARY:Συζήτηση: Δημιουργία 
URL:https://thessaloniki.kinimatorama.net/event/189235
END:VEVENT
END:VCALENDAR
