BEGIN:VCALENDAR
VERSION:2.0
PRODID:-//demosphere.net//NONSGML kigkonsult.se iCalcreator 2.22.1//
METHOD:REQUEST
X-WR-TIMEZONE:Europe/Athens
BEGIN:VEVENT
UID:https://thessaloniki.kinimatorama.net/event/189384
DTSTAMP:20260408T150000Z
DESCRIPTION:περισσότερες πληροφορίες: https://thessaloniki.kinimatorama.net
 /event/189384 
DTSTART:20260408T150000Z
DTEND:20260408T160000Z
GEO:+40.629229;+22.949044
LOCATION:Θεσσαλονίκη\, \nΤσιμισκή με Ναυαρίνου (Γούναρη)
SUMMARY:Συγκέντρωση αλληλεγγύης στην Κοινότητα των Κατειλημμένων Προσφυγικώ
 ν
URL:https://thessaloniki.kinimatorama.net/event/189384
END:VEVENT
END:VCALENDAR
