BEGIN:VCALENDAR
VERSION:2.0
PRODID:-//demosphere.net//NONSGML kigkonsult.se iCalcreator 2.22.1//
METHOD:REQUEST
X-WR-TIMEZONE:Europe/Athens
BEGIN:VEVENT
UID:https://thessaloniki.kinimatorama.net/event/189531
DTSTAMP:20260416T110000Z
DESCRIPTION:περισσότερες πληροφορίες: https://thessaloniki.kinimatorama.net
 /event/189531 
DTSTART:20260416T110000Z
DTEND:20260416T120000Z
GEO:+40.632094;+22.951837
LOCATION:Θεσσαλονίκη\, \nΚαμάρα \nΕγνατία 121
SUMMARY:Μοίρασμα φαγητού από την Κοινωνική Κουζίνα του «9 Μάη»
URL:https://thessaloniki.kinimatorama.net/event/189531
END:VEVENT
END:VCALENDAR
