BEGIN:VCALENDAR
VERSION:2.0
PRODID:-//demosphere.net//NONSGML kigkonsult.se iCalcreator 2.22.1//
METHOD:REQUEST
X-WR-TIMEZONE:Europe/Athens
BEGIN:VEVENT
UID:https://thessaloniki.kinimatorama.net/event/189636
DTSTAMP:20260418T183000Z
DESCRIPTION:περισσότερες πληροφορίες: https://thessaloniki.kinimatorama.net
 /event/189636 
DTSTART:20260418T183000Z
DTEND:20260418T193000Z
GEO:+37.985926;+23.735421
LOCATION:Αθήνα\, \nΜπενάκη και Βαλτετσίου \nΕξάρχεια
SUMMARY:[Αθήνα] Αντικατασταλτική συγκέντρωση
URL:https://thessaloniki.kinimatorama.net/event/189636
END:VEVENT
END:VCALENDAR
