BEGIN:VCALENDAR
VERSION:2.0
PRODID:-//demosphere.net//NONSGML kigkonsult.se iCalcreator 2.22.1//
METHOD:REQUEST
X-WR-TIMEZONE:Europe/Athens
BEGIN:VEVENT
UID:https://thessaloniki.kinimatorama.net/event/189705
DTSTAMP:20260425T100000Z
DESCRIPTION:περισσότερες πληροφορίες: https://thessaloniki.kinimatorama.net
 /event/189705 
DTSTART:20260425T100000Z
DTEND:20260425T110000Z
GEO:+37.968738;+23.729551
LOCATION:Αθήνα\, \nΣταθμός Μετρό Ακρόπολη
SUMMARY:[Αθήνα] Πορεία για τα συντρόφια που διώκονται για την υπεράσπιση τη
 ς Ματρόζου 45
URL:https://thessaloniki.kinimatorama.net/event/189705
END:VEVENT
END:VCALENDAR
