BEGIN:VCALENDAR
VERSION:2.0
PRODID:-//demosphere.net//NONSGML kigkonsult.se iCalcreator 2.22.1//
METHOD:REQUEST
X-WR-TIMEZONE:Europe/Athens
BEGIN:VEVENT
UID:https://thessaloniki.kinimatorama.net/event/19041
DTSTAMP:20120516T143000Z
DESCRIPTION:περισσότερες πληροφορίες: https://thessaloniki.kinimatorama.net
 /event/19041 
DTSTART:20120516T143000Z
DTEND:20120516T153000Z
GEO:+38.00095;+23.737762
LOCATION:Αθήνα\, \nΔημοτική Αγορά Κυψέλης \nΦωκίωνος Νέγρη 42
SUMMARY:Συνέλευση Αντίστασης και Αλληλεγγύης Κυψέλης / Πατησίων
URL:https://thessaloniki.kinimatorama.net/event/19041
END:VEVENT
END:VCALENDAR
